BEGIN:VCALENDAR
VERSION:2.0
PRODID:-//wp-events-plugin.com//7.2.3.1//EN
TZID:America/Los_Angeles
X-WR-TIMEZONE:America/Los_Angeles
BEGIN:VEVENT
UID:2409@lblesd.k12.or.us
DTSTART;TZID=America/Los_Angeles:20260827T130000
DTEND;TZID=America/Los_Angeles:20260827T143000
DTSTAMP:20260306T180245Z
URL:https://www.lblesd.k12.or.us/training-calendar/events/2026-27-elementa
 ry-teacher-training-zoom-2/
SUMMARY:2026-27 Elementary Teacher Training (Zoom)
DESCRIPTION:This session is designed for elementary teachers who want to be
 come more confident using TeacherVUE and Grade Book for everyday classroom
  tasks—like recording attendance\, creating assignments\, and entering g
 rades (a.k.a. the things we promise ourselves we’ll update before Friday
  afternoon).\nWe’ll explore the Home Menu\, including notifications\, st
 udent notes\, student profiles\, seating charts\, submitting attendance\, 
 recording lunch counts (if used by your district)\, and making the most of
  the home page tiles.\nNext\, we’ll dive into the Grade Book Menu\, wher
 e we’ll use the setup stepper to create assignment categories\, set roun
 ding and display options\, link standards\, enter scores and notes\, and r
 un progress reports.\nFinally\, we’ll take a quick look at Other Reports
  that can help you stay organized\, informed\, and possibly a few steps ah
 ead of your inbox.\nBy the end of the session\, you’ll have the tools yo
 u need to keep your grade book accurate\, your attendance submitted\, and 
 your sanity mostly intact.
LOCATION:https://us02web.zoom.us/j/87149748310?pwd=lXvj78Q7vRAk9HVCL0W7N97R
 nYkZ0N.1
END:VEVENT
BEGIN:VTIMEZONE
TZID:America/Los_Angeles
X-LIC-LOCATION:America/Los_Angeles
BEGIN:DAYLIGHT
DTSTART:20260308T030000
TZOFFSETFROM:-0800
TZOFFSETTO:-0700
TZNAME:PDT
END:DAYLIGHT
END:VTIMEZONE
END:VCALENDAR