BEGIN:VCALENDAR
VERSION:2.0
PRODID:-//wp-events-plugin.com//7.2.3.1//EN
TZID:America/Los_Angeles
X-WR-TIMEZONE:America/Los_Angeles
BEGIN:VEVENT
UID:2412@lblesd.k12.or.us
DTSTART;TZID=America/Los_Angeles:20260902T130000
DTEND;TZID=America/Los_Angeles:20260902T150000
DTSTAMP:20260306T183456Z
URL:https://www.lblesd.k12.or.us/training-calendar/events/2026-27-secondar
 y-teacher-training-zoom-2/
SUMMARY:2026-27 Secondary Teacher Training (Zoom)
DESCRIPTION:This session is designed for secondary teachers who want to lea
 rn—or refresh—their skills using TeacherVUE and Grade Book for everyda
 y classroom essentials like recording attendance\, creating assignments\, 
 and entering grades (because the grade book won’t update itself… unfor
 tunately).\nWe’ll start with the Home Menu\, including notifications\, s
 tudent notes\, student profiles\, seating charts\, submitting attendance\,
  recording lunch counts (if used by your district)\, and making the most o
 f the home page tiles.\nNext\, we’ll explore the Grade Book Menu\, where
  we’ll walk through the setup stepper to create assignment categories\, 
 adjust rounding and display options\, create assignments\, enter scores an
 d notes\, and run progress reports to keep everyone informed.\nWe’ll wra
 p up with a look at Other Reports that can help you quickly find the infor
 mation you need—without needing a detective badge or extra coffee.
CATEGORIES:Synergy
LOCATION:https://us02web.zoom.us/j/82673836549?pwd=804GUN1Ysd3rywzscEfrZQLf
 xpti01.1
END:VEVENT
BEGIN:VTIMEZONE
TZID:America/Los_Angeles
X-LIC-LOCATION:America/Los_Angeles
BEGIN:DAYLIGHT
DTSTART:20260308T030000
TZOFFSETFROM:-0800
TZOFFSETTO:-0700
TZNAME:PDT
END:DAYLIGHT
END:VTIMEZONE
END:VCALENDAR