BEGIN:VCALENDAR
VERSION:2.0
PRODID:-//wp-events-plugin.com//7.2.3.1//EN
TZID:America/Los_Angeles
X-WR-TIMEZONE:America/Los_Angeles
BEGIN:VEVENT
UID:1189@lblesd.k12.or.us
DTSTART;TZID=America/Los_Angeles:20201105T090000
DTEND;TZID=America/Los_Angeles:20201105T103000
DTSTAMP:20200928T165443Z
URL:https://www.lblesd.k12.or.us/training-calendar/events/accounts-receiva
 ble-overview/
SUMMARY:Accounts Receivable Overview
DESCRIPTION:Interested in learning more about Accounts Receivable and how i
 t works within Infinite Visions? Join us for an overview of what this modu
 le can do for you!\n\nEach user must pre-register for the event.  A uniqu
 e login will be emailed to you for attendance purposes.
CATEGORIES:Business Services
LOCATION:Online GoToMeeting\, At your desk\, In your own building\, United 
 States
X-APPLE-STRUCTURED-LOCATION;VALUE=URI;X-ADDRESS=At your desk\, In your own 
 building\, United States;X-APPLE-RADIUS=100;X-TITLE=Online GoToMeeting:geo
 :0,0
END:VEVENT
BEGIN:VTIMEZONE
TZID:America/Los_Angeles
X-LIC-LOCATION:America/Los_Angeles
BEGIN:STANDARD
DTSTART:20201101T010000
TZOFFSETFROM:-0700
TZOFFSETTO:-0800
TZNAME:PST
END:STANDARD
END:VTIMEZONE
END:VCALENDAR