BEGIN:VCALENDAR
VERSION:2.0
PRODID:-//wp-events-plugin.com//7.2.3.1//EN
TZID:America/Los_Angeles
X-WR-TIMEZONE:America/Los_Angeles
BEGIN:VEVENT
UID:1204@lblesd.k12.or.us
DTSTART;TZID=America/Los_Angeles:20201210T133000
DTEND;TZID=America/Los_Angeles:20201210T153000
DTSTAMP:20201204T232048Z
URL:https://www.lblesd.k12.or.us/training-calendar/events/ap-calendar-year
 -end/
SUMMARY:AP CALENDAR YEAR END
DESCRIPTION:Join us for the Accounts Payable (AP) CALENDAR YEAR END (CYE) Z
 OOM meeting where we will discuss 1099 Processing and AP CYE action items 
 to be processed prior to moving into CY 2021.\n\nPlease register for AP CA
 LENDAR YEAR END on Dec 10\, 2020 1:30 PM PST at:\n\nhttps://attendee.gotow
 ebinar.com/register/7296897233883970828\n\nAfter registering\, you will re
 ceive a confirmation email containing information about joining the webina
 r.\n\nAgenda: Agenda AP User Group 12-2020\n\n1099's What's New: 1099's Wh
 ats New 2020\n\n1099 Processing Checklist: QRG - 1099 Checklist 2020
CATEGORIES:Business Services
LOCATION:Online GoToMeeting\, At your desk\, In your own building\, United 
 States
X-APPLE-STRUCTURED-LOCATION;VALUE=URI;X-ADDRESS=At your desk\, In your own 
 building\, United States;X-APPLE-RADIUS=100;X-TITLE=Online GoToMeeting:geo
 :0,0
END:VEVENT
BEGIN:VTIMEZONE
TZID:America/Los_Angeles
X-LIC-LOCATION:America/Los_Angeles
BEGIN:STANDARD
DTSTART:20201101T010000
TZOFFSETFROM:-0700
TZOFFSETTO:-0800
TZNAME:PST
END:STANDARD
END:VTIMEZONE
END:VCALENDAR