BEGIN:VCALENDAR
VERSION:2.0
PRODID:-//wp-events-plugin.com//7.2.3.1//EN
TZID:America/Los_Angeles
X-WR-TIMEZONE:America/Los_Angeles
BEGIN:VEVENT
UID:2455@lblesd.k12.or.us
DTSTART;TZID=America/Los_Angeles:20260820T090000
DTEND;TZID=America/Los_Angeles:20260820T100000
DTSTAMP:20260326T222805Z
URL:https://www.lblesd.k12.or.us/training-calendar/events/discipline-modul
 e-training/
SUMMARY:Discipline Module Training
DESCRIPTION:This session will cover content to ensure both returning and ne
 w Synergy users gain the foundational knowledge they need to be successful
 . The training will focus on how to enter and manage single and multiple s
 tudent incident entries. It will also review individual incidents\, studen
 t incident history\, and highlight useful reports available within Synergy
 .\n\n&nbsp\;\n\nIf there are no registrants 24 hours prior to the training
 \, the session will be cancelled.
CATEGORIES:Synergy
LOCATION:CR3 @ LBLESD\, 905 4th Avenue SE\, Albany\, OR\, 97321\, United St
 ates
GEO:44.6365478;-123.09350280000001
X-APPLE-STRUCTURED-LOCATION;VALUE=URI;X-ADDRESS=905 4th Avenue SE\, Albany\
 , OR\, 97321\, United States;X-APPLE-RADIUS=100;X-TITLE=CR3 @ LBLESD:geo:4
 4.6365478,-123.09350280000001
END:VEVENT
BEGIN:VTIMEZONE
TZID:America/Los_Angeles
X-LIC-LOCATION:America/Los_Angeles
BEGIN:DAYLIGHT
DTSTART:20260308T030000
TZOFFSETFROM:-0800
TZOFFSETTO:-0700
TZNAME:PDT
END:DAYLIGHT
END:VTIMEZONE
END:VCALENDAR