BEGIN:VCALENDAR
VERSION:2.0
PRODID:-//wp-events-plugin.com//7.2.3.1//EN
TZID:America/Los_Angeles
X-WR-TIMEZONE:America/Los_Angeles
BEGIN:VEVENT
UID:2406@lblesd.k12.or.us
DTSTART;TZID=America/Los_Angeles:20260819T090000
DTEND;TZID=America/Los_Angeles:20260819T120000
DTSTAMP:20260306T173549Z
URL:https://www.lblesd.k12.or.us/training-calendar/events/gradebook-setup-
 for-2026-27-in-person-2/
SUMMARY:Gradebook Setup for 2026-27 (In-Person)
DESCRIPTION:Calling all District Synergy Specialists and Gradebook Managers
 !\n\nReady to check “gradebook setup” off that mile-long start-of-scho
 ol to-do list?  Join the LBL Gradebook Team for help getting your 2026–
 27 grading and gradebook-related setups ready to roll. We’ll assist with
  District Gradebooks\, mark definitions and report card score types\, and 
 ParentVUE/StudentVUE settings.\n\nAnd if your mass scheduling is already c
 omplete\, we can even run your Gradebook District Mass Synchronization whi
 le you’re there—because nothing feels better than knocking out a big t
 ask before the school year whirlwind begins.
CATEGORIES:Synergy
LOCATION:CR1 @ LBLESD\, 905 4th Avenue SE\, Albany\, OR\, 97321\, United St
 ates
GEO:44.6365478;-123.09350280000001
X-APPLE-STRUCTURED-LOCATION;VALUE=URI;X-ADDRESS=905 4th Avenue SE\, Albany\
 , OR\, 97321\, United States;X-APPLE-RADIUS=100;X-TITLE=CR1 @ LBLESD:geo:4
 4.6365478,-123.09350280000001
END:VEVENT
BEGIN:VTIMEZONE
TZID:America/Los_Angeles
X-LIC-LOCATION:America/Los_Angeles
BEGIN:DAYLIGHT
DTSTART:20260308T030000
TZOFFSETFROM:-0800
TZOFFSETTO:-0700
TZNAME:PDT
END:DAYLIGHT
END:VTIMEZONE
END:VCALENDAR