BEGIN:VCALENDAR
VERSION:2.0
PRODID:-//wp-events-plugin.com//7.2.3.1//EN
TZID:America/Los_Angeles
X-WR-TIMEZONE:America/Los_Angeles
BEGIN:VEVENT
UID:2465@lblesd.k12.or.us
DTSTART;TZID=America/Los_Angeles:20260813T140000
DTEND;TZID=America/Los_Angeles:20260813T150000
DTSTAMP:20260402T205232Z
URL:https://www.lblesd.k12.or.us/training-calendar/events/mastering-enroll
 ment-olr-tips-tricks-for-success-2/
SUMMARY:Mastering Enrollment & OLR: Tips & Tricks for Success
DESCRIPTION:&nbsp\;\n\nDesigned for both experienced registrars and those l
 ooking to sharpen their skills\, this session goes beyond the basics of Sy
 nergy’s Online Registration and Enrollment tools. Discover lesser-known 
 features\, smarter workflows\, and practical strategies using analytics\, 
 reminders\, and checklists. Leave with actionable ideas to increase effici
 ency\, reduce manual work\, and optimize your enrollment processes.\n\nReg
 istration:  \n\nParticipants must register. If no registrations are comp
 leted\, this training will be canceled 24 hours prior to the date. Please 
 register at least 2 working days prior to the training date.\n\n Audience
 :\n\nStaff members who are well acquainted with Synergy and are responsibl
 e for managing enrollment for both new and returning students who want to 
 utilize Synergy to the fullest.\n\nWhere:  Zoom - link to be shared at a 
 later date.\n\nPresenter:  Reneé Martinez and Andrea Musick
CATEGORIES:Synergy
LOCATION:ZOOM MEETING\, YOUR DESK\, Anywhere\,  \, United States
X-APPLE-STRUCTURED-LOCATION;VALUE=URI;X-ADDRESS=YOUR DESK\, Anywhere\,  \, 
 United States;X-APPLE-RADIUS=100;X-TITLE=ZOOM MEETING:geo:0,0
END:VEVENT
BEGIN:VTIMEZONE
TZID:America/Los_Angeles
X-LIC-LOCATION:America/Los_Angeles
BEGIN:DAYLIGHT
DTSTART:20260308T030000
TZOFFSETFROM:-0800
TZOFFSETTO:-0700
TZNAME:PDT
END:DAYLIGHT
END:VTIMEZONE
END:VCALENDAR