BEGIN:VCALENDAR
VERSION:2.0
PRODID:-//wp-events-plugin.com//7.2.3.1//EN
TZID:America/Los_Angeles
X-WR-TIMEZONE:America/Los_Angeles
BEGIN:VEVENT
UID:1193@lblesd.k12.or.us
DTSTART;TZID=America/Los_Angeles:20201208T090000
DTEND;TZID=America/Los_Angeles:20201208T120000
DTSTAMP:20201204T161743Z
URL:https://www.lblesd.k12.or.us/training-calendar/events/or-staff-positio
 n-reporting-4/
SUMMARY:OR Staff Position Reporting
DESCRIPTION:This session will show you how Infinite Visions can aide in pul
 ling the necessary data for the report.\n\nEach user must pre-register for
  the event. A unique login will be emailed to you and used for attendance 
 purposes.\n\nStaff Position Manual\nIV Staff Collection Guide\n\nPlease wa
 tch this video prior to this training. This is the 19/20 video but is stil
 l applicable to the 20/21 school year as no changes have been made for thi
 s year.\nTraining Video \n\nPresenter: Suzanne Collette
CATEGORIES:Business Services
LOCATION:Online GoToMeeting\, At your desk\, In your own building\, United 
 States
X-APPLE-STRUCTURED-LOCATION;VALUE=URI;X-ADDRESS=At your desk\, In your own 
 building\, United States;X-APPLE-RADIUS=100;X-TITLE=Online GoToMeeting:geo
 :0,0
END:VEVENT
BEGIN:VTIMEZONE
TZID:America/Los_Angeles
X-LIC-LOCATION:America/Los_Angeles
BEGIN:STANDARD
DTSTART:20201101T010000
TZOFFSETFROM:-0700
TZOFFSETTO:-0800
TZNAME:PST
END:STANDARD
END:VTIMEZONE
END:VCALENDAR