BEGIN:VCALENDAR
VERSION:2.0
PRODID:-//wp-events-plugin.com//7.2.3.1//EN
TZID:America/Los_Angeles
X-WR-TIMEZONE:America/Los_Angeles
BEGIN:VEVENT
UID:1137@lblesd.k12.or.us
DTSTART;TZID=America/Los_Angeles:20201202T133000
DTEND;TZID=America/Los_Angeles:20201202T160000
DTSTAMP:20200928T171414Z
URL:https://www.lblesd.k12.or.us/training-calendar/events/payroll-user-gro
 up-15/
SUMMARY:Payroll User Group
DESCRIPTION:Join us for our monthly Payroll User Group Meeting. The focus o
 f this month will be PR Calendar Year End.\n\nRegister for this meeting.\n
 \nOnce registered an email with a unique login will be sent to you.\n\nSub
 mit your meeting ideas to bis.support@lblesd.k12.or.us\n\nFacilitator: Suz
 anne Collette
CATEGORIES:Business Services
LOCATION:Online GoToMeeting\, At your desk\, In your own building\, United 
 States
X-APPLE-STRUCTURED-LOCATION;VALUE=URI;X-ADDRESS=At your desk\, In your own 
 building\, United States;X-APPLE-RADIUS=100;X-TITLE=Online GoToMeeting:geo
 :0,0
END:VEVENT
BEGIN:VTIMEZONE
TZID:America/Los_Angeles
X-LIC-LOCATION:America/Los_Angeles
BEGIN:STANDARD
DTSTART:20201101T010000
TZOFFSETFROM:-0700
TZOFFSETTO:-0800
TZNAME:PST
END:STANDARD
END:VTIMEZONE
END:VCALENDAR