BEGIN:VCALENDAR
VERSION:2.0
PRODID:-//wp-events-plugin.com//7.2.3.1//EN
TZID:America/Los_Angeles
X-WR-TIMEZONE:America/Los_Angeles
BEGIN:VEVENT
UID:983@lblesd.k12.or.us
DTSTART;TZID=America/Los_Angeles:20191115T083000
DTEND;TZID=America/Los_Angeles:20191115T110000
DTSTAMP:20191028T212216Z
URL:https://www.lblesd.k12.or.us/training-calendar/events/ps-special-progr
 ams-tienet-december-census-training-11-15/
SUMMARY:PS Special Programs (TIENET) December Census Training - 11/15
DESCRIPTION:Audience:\nPowerSchool Special Programs (TIENET) System Adminis
 trator\, District Special Education Coordinator/Director\, District Census
  Coordinator\, Teacher advocates who will be completing the December 1st C
 ensus Collection report\; should be familiar with Special Education record
  keeping.\n\nThis training session covers a walk-through of the Dec Census
  process using the PS Special Programs (TIENET) system.\nThe session will 
 cover the following:\n* Reports used to verify a student's census data\n* 
 Report features - Downloading State December Census Report\n* Import data 
 into the ODE District Website\, SECC Data Manager\n* Hands-on practice is 
 included with each content area\n\nCourse Materials:\n\nNote: manuals are 
 in the process of being updated to Version 19. If prompted for user name a
 nd password call TIENET support at 877.967.7733 for log on information.\n\
 n\nPrint and bring to the training the following documents which can be f
 ound at: TIENET Documentation\n\n 	Staff Documentation:\nQuick Reference G
 uide: " Related Service Description with State Codes"\n 	System Administra
 tor Documentation:\nManuals: " TIENET December Census Manual"and "Using th
 e TIENET Utility Tool"\n\nPrerequisites/Notes:\n\n 	Have any documentation
  to help you complete the State December Census reporting on an individual
  student.\n 	Have any ODE documentation for using the ODE SECC Data Manage
 r and instructions on submitting data to the ODE Consolidated Student Coll
 ection.\n 	Have sign-on rights to the ODE District Website and make sure y
 ou have rights to the Dec Special Education Child Count (SECC) and the SSI
 D applications for reporting purposes.\n 	Have sign-on right to the ODE SE
 CC Data Manager\n\nRegistration:\nParticipants must register. If no regist
 rations are completed\, this training will be canceled 24 hours prior to t
 he date. Please register at least 2 working days prior to the training dat
 e.\n\nPresenter:  Linda Percy\n\n&nbsp\;\n\n&nbsp\;
CATEGORIES:PowerSchool SP
LOCATION:CR5 @ LBLESD\, 905 4th Avenue SE\, Albany\, OR\, 97321\, United St
 ates
GEO:44.6365478;-123.09350280000001
X-APPLE-STRUCTURED-LOCATION;VALUE=URI;X-ADDRESS=905 4th Avenue SE\, Albany\
 , OR\, 97321\, United States;X-APPLE-RADIUS=100;X-TITLE=CR5 @ LBLESD:geo:4
 4.6365478,-123.09350280000001
END:VEVENT
BEGIN:VTIMEZONE
TZID:America/Los_Angeles
X-LIC-LOCATION:America/Los_Angeles
BEGIN:STANDARD
DTSTART:20191103T010000
TZOFFSETFROM:-0700
TZOFFSETTO:-0800
TZNAME:PST
END:STANDARD
END:VTIMEZONE
END:VCALENDAR