BEGIN:VCALENDAR
VERSION:2.0
PRODID:-//wp-events-plugin.com//7.2.3.1//EN
TZID:America/Los_Angeles
X-WR-TIMEZONE:America/Los_Angeles
BEGIN:VEVENT
UID:1280@lblesd.k12.or.us
DTSTART;TZID=America/Los_Angeles:20210729T083000
DTEND;TZID=America/Los_Angeles:20210729T113000
DTSTAMP:20210519T150037Z
URL:https://www.lblesd.k12.or.us/training-calendar/events/start-of-year-wo
 rkshop-___open_____-district-4/
SUMMARY:Start of Year Workshop - __CORVALLIS__ District
DESCRIPTION:This session is RESERVED for __CORVALLIS___ school staff. \n\n
 LOCATION:   Corvallis School District Board Room\n\nIN PERSON LAB:  (Di
 strict Coordinator - please provide a computer lab location we can add to 
 this posting when you reserve your date.  LBL ESD computer labs will not 
 be available in August. LBL staff can travel to most districts.)\n\nEvery 
 year each school is responsible for completing the WebSIS Start of Year ch
 ecklist (Processes menu &gt\; Start of Year checklist).  Tasks include se
 tup WebSIS calendar\, profile\, and assorted processes\, Wazzle gradebook 
 setup\, and SILK Scheduling.  These sessions are for elementary\, middle\
 , high school and charter schools.  Please have an office representative 
 from each building attend.\n\nIn this session we will:\n\n 	Complete the m
 ajority of tasks required before Day 1 of school calendar\n 	Gradebook tem
 plates will be reviewed closely – many schools changed templates due to 
 2021 ‘Comprehensive Distance Learning’ and 'Hybrid' schedules.\n\n 	te
 mplates must be reset for the new school year\n 	marking periods and dates
  are very important!\n\n\n\nAll Schools – Please bring the following inf
 ormation: \n\n\n 	School Calendar\n 	Grading dates\n 	Current staff list\
 n\nOnline connection:
LOCATION:Corvallis School District Office\, 1555 SW 35th Street\, Corvallis
 \, OR\, 97333\, United States
GEO:44.5521133;-123.28821399999998
X-APPLE-STRUCTURED-LOCATION;VALUE=URI;X-ADDRESS=1555 SW 35th Street\, Corva
 llis\, OR\, 97333\, United States;X-APPLE-RADIUS=100;X-TITLE=Corvallis Sch
 ool District Office:geo:44.5521133,-123.28821399999998
END:VEVENT
BEGIN:VTIMEZONE
TZID:America/Los_Angeles
X-LIC-LOCATION:America/Los_Angeles
BEGIN:DAYLIGHT
DTSTART:20210314T030000
TZOFFSETFROM:-0800
TZOFFSETTO:-0700
TZNAME:PDT
END:DAYLIGHT
END:VTIMEZONE
END:VCALENDAR