BEGIN:VCALENDAR
VERSION:2.0
PRODID:-//wp-events-plugin.com//7.2.3.1//EN
TZID:America/Los_Angeles
X-WR-TIMEZONE:America/Los_Angeles
BEGIN:VEVENT
UID:2462@lblesd.k12.or.us
DTSTART;TZID=America/Los_Angeles:20260818T090000
DTEND;TZID=America/Los_Angeles:20260818T110000
DTSTAMP:20260402T205138Z
URL:https://www.lblesd.k12.or.us/training-calendar/events/synergy-elementa
 ry-scheduling-8/
SUMMARY:Synergy Elementary Scheduling
DESCRIPTION:The Synergy Elementary Scheduling Training session will cover c
 ontent to ensure returning and new Synergy users receive the foundational 
 knowledge they need to be successful with the support of our LBL ESD Team.
  This particular training will review the linking process\, adjusting the 
 number of sections at each grade level\, and rostering students.\n\nLocati
 on:\n\nLBLESD Room CR 1 &amp\; 2\n\nAudience: \n\nAdministrator/Secretary
 /Registrar\n\nRegistration:\nParticipants must register. If no registratio
 ns are completed\, this session will be canceled 24 hours prior to the dat
 e. Please register at least 2 working days prior to the session date.\n\nP
 resenter:  Andrea Musick &amp\; Reneé Martinez\n\n&nbsp\;\n\n&nbsp\;
CATEGORIES:Synergy
LOCATION:Linn Benton Lincoln ESD\, 905 4th Ave SE\, Albany\, OR\, 97321\, U
 nited States
X-APPLE-STRUCTURED-LOCATION;VALUE=URI;X-ADDRESS=905 4th Ave SE\, Albany\, O
 R\, 97321\, United States;X-APPLE-RADIUS=100;X-TITLE=Linn Benton Lincoln E
 SD:geo:0,0
END:VEVENT
BEGIN:VTIMEZONE
TZID:America/Los_Angeles
X-LIC-LOCATION:America/Los_Angeles
BEGIN:DAYLIGHT
DTSTART:20260308T030000
TZOFFSETFROM:-0800
TZOFFSETTO:-0700
TZNAME:PDT
END:DAYLIGHT
END:VTIMEZONE
END:VCALENDAR