BEGIN:VCALENDAR
VERSION:2.0
PRODID:-//wp-events-plugin.com//7.2.3.1//EN
TZID:America/Los_Angeles
X-WR-TIMEZONE:America/Los_Angeles
BEGIN:VEVENT
UID:2460@lblesd.k12.or.us
DTSTART;TZID=America/Los_Angeles:20260910T090000
DTEND;TZID=America/Los_Angeles:20260910T100000
DTSTAMP:20260331T162349Z
URL:https://www.lblesd.k12.or.us/training-calendar/events/synergy-health-m
 odule-essentials-empowering-nurses-health-assistants-office-staff-2/
SUMMARY:Synergy Health Module Essentials:  Empowering Nurses\, Health Assis
 tants\, & Office Staff
DESCRIPTION:Learn from Synergy experts about the newest features in our gro
 wing health module!  Learn to manage student health conditions\, medicati
 ons\, and health room visits\, as well as health alerts and tasks.\n\nThis
  is a Zoom session. You may attend from anywhere that is convenient for yo
 u\, but we recommend a location that is clutter and distraction-free.  Th
 e Zoom link will be emailed to registered participants prior to the sessio
 n.\n\n&nbsp\;
CATEGORIES:Synergy
LOCATION:https://www.google.com/url?q=https://us02web.zoom.us/j/83175769162
 ?pwd%3DYi0rMKiSbufzfa8MUsTzUTwYEVkXbk.1%26jst%3D2&sa=D&source=calendar&usg
 =AOvVaw0gNGLxC4-lT7INRFYZGkfU
END:VEVENT
BEGIN:VTIMEZONE
TZID:America/Los_Angeles
X-LIC-LOCATION:America/Los_Angeles
BEGIN:DAYLIGHT
DTSTART:20260308T030000
TZOFFSETFROM:-0800
TZOFFSETTO:-0700
TZNAME:PDT
END:DAYLIGHT
END:VTIMEZONE
END:VCALENDAR