BEGIN:VCALENDAR
VERSION:2.0
PRODID:-//wp-events-plugin.com//7.2.3.1//EN
TZID:America/Los_Angeles
X-WR-TIMEZONE:America/Los_Angeles
BEGIN:VEVENT
UID:2461@lblesd.k12.or.us
DTSTART;TZID=America/Los_Angeles:20260924T090000
DTEND;TZID=America/Los_Angeles:20260924T100000
DTSTAMP:20260331T161843Z
URL:https://www.lblesd.k12.or.us/training-calendar/events/synergy-insights
 -unlocking-the-power-of-analytics-4/
SUMMARY:Synergy Insights: Unlocking the Power of Analytics
DESCRIPTION:Learn from Synergy experts about the ever-growing library of da
 shboards and reports within LBL's Synergy Analytics.\n\nThis is a Zoom ses
 sion. You may attend from anywhere that is convenient for you but we recom
 mend a location that is clutter and distraction-free.\n\nRegistration:  P
 articipants must register.  If no registrations are completed\, this trai
 ning will be canceled 24 hours prior to the event.  A Zoom link will be e
 mailed to registered participants prior to the event.\n\n&nbsp\;\n\n&nbsp\
 ;
CATEGORIES:Synergy
LOCATION:https://www.google.com/url?q=https://us02web.zoom.us/j/83426478971
 ?pwd%3DoTWZycwKbm7CR3NTaa2Va0BlsbZnxx.1%26jst%3D2&sa=D&source=calendar&usg
 =AOvVaw103P0bTmDKvJIk0oA4XxI3
END:VEVENT
BEGIN:VTIMEZONE
TZID:America/Los_Angeles
X-LIC-LOCATION:America/Los_Angeles
BEGIN:DAYLIGHT
DTSTART:20260308T030000
TZOFFSETFROM:-0800
TZOFFSETTO:-0700
TZNAME:PDT
END:DAYLIGHT
END:VTIMEZONE
END:VCALENDAR