BEGIN:VCALENDAR
VERSION:2.0
PRODID:-//wp-events-plugin.com//7.2.3.1//EN
TZID:America/Los_Angeles
X-WR-TIMEZONE:America/Los_Angeles
BEGIN:VEVENT
UID:2466@lblesd.k12.or.us
DTSTART;TZID=America/Los_Angeles:20260811T130000
DTEND;TZID=America/Los_Angeles:20260811T150000
DTSTAMP:20260402T204835Z
URL:https://www.lblesd.k12.or.us/training-calendar/events/synergy-new-user
 -enrollment-olr-2/
SUMMARY:Synergy New User Enrollment/OLR
DESCRIPTION:The Synergy New User Enrollment/OLR Training session will cover
  content to ensure new Synergy users receive the foundational knowledge th
 ey need to be successful with the support of our LBL ESD staff. This parti
 cular training will cover how to perform and maintain enrollment records\,
  managing the registration queue\, generating useful enrollment reports\, 
 and assisting parents with ParentVUE.\n\nAudience:\n\nNew staff members re
 sponsible for managing enrollment for both new and returning students.\n\n
 Prerequisites/Notes:  \n\nUpdate access to Student and Registration Queu
 e.\n\nRegistration:\n\nParticipants must register. If no registrations are
  completed\, this training will be canceled 24 hours prior to the date. Pl
 ease register at least 2 working days prior to the training date.\n\nPrese
 nter:  Reneé Martinez and Andrea Musick
CATEGORIES:Synergy
LOCATION:Linn Benton Lincoln ESD\, 905 4th Ave SE\, Albany\, OR\, 97321\, U
 nited States
X-APPLE-STRUCTURED-LOCATION;VALUE=URI;X-ADDRESS=905 4th Ave SE\, Albany\, O
 R\, 97321\, United States;X-APPLE-RADIUS=100;X-TITLE=Linn Benton Lincoln E
 SD:geo:0,0
END:VEVENT
BEGIN:VTIMEZONE
TZID:America/Los_Angeles
X-LIC-LOCATION:America/Los_Angeles
BEGIN:DAYLIGHT
DTSTART:20260308T030000
TZOFFSETFROM:-0800
TZOFFSETTO:-0700
TZNAME:PDT
END:DAYLIGHT
END:VTIMEZONE
END:VCALENDAR