BEGIN:VCALENDAR
VERSION:2.0
PRODID:-//wp-events-plugin.com//7.2.3.1//EN
TZID:America/Los_Angeles
X-WR-TIMEZONE:America/Los_Angeles
BEGIN:VEVENT
UID:2467@lblesd.k12.or.us
DTSTART;TZID=America/Los_Angeles:20260817T140000
DTEND;TZID=America/Los_Angeles:20260817T160000
DTSTAMP:20260402T205812Z
URL:https://www.lblesd.k12.or.us/training-calendar/events/synergy-new-user
 -enrollment-olr-7/
SUMMARY:Synergy New User Enrollment/OLR
DESCRIPTION:The Synergy New User Enrollment/OLR Training session will cover
  content to ensure new Synergy users receive the foundational knowledge th
 ey need to be successful with the support of our LBL ESD staff. This parti
 cular training will cover how to perform and maintain enrollment records\,
  managing the registration queue\, generating useful enrollment reports\, 
 and assisting parents with ParentVUE.\n\nAudience:\n\nNew staff members re
 sponsible for managing enrollment for both new and returning students.\n\n
 Prerequisites/Notes:  \n\nUpdate access to Student and Registration Queu
 e.\n\nRegistration:\n\nParticipants must register. If no registrations are
  completed\, this training will be canceled 24 hours prior to the date. Pl
 ease register at least 2 working days prior to the training date.\n\nZoom 
 - Link to be provided at a later date.\n\nPresenter:  Reneé Martinez and
  Andrea Musick
CATEGORIES:Synergy
LOCATION:ZOOM MEETING\, YOUR DESK\, Anywhere\,  \, United States
X-APPLE-STRUCTURED-LOCATION;VALUE=URI;X-ADDRESS=YOUR DESK\, Anywhere\,  \, 
 United States;X-APPLE-RADIUS=100;X-TITLE=ZOOM MEETING:geo:0,0
END:VEVENT
BEGIN:VTIMEZONE
TZID:America/Los_Angeles
X-LIC-LOCATION:America/Los_Angeles
BEGIN:DAYLIGHT
DTSTART:20260308T030000
TZOFFSETFROM:-0800
TZOFFSETTO:-0700
TZNAME:PDT
END:DAYLIGHT
END:VTIMEZONE
END:VCALENDAR